Package: CAEN Version: 1.17.0 Command: chmod a+r CAEN -R && F:\biocbuild\bbs-3.22-bioc\R\bin\R.exe CMD build --keep-empty-dirs --no-resave-data CAEN StartedAt: 2025-07-24 17:57:18 -0400 (Thu, 24 Jul 2025) EndedAt: 2025-07-24 18:00:12 -0400 (Thu, 24 Jul 2025) EllapsedTime: 173.9 seconds RetCode: 0 Status: OK PackageFile: CAEN_1.17.0.tar.gz PackageFileSize: 988.4 KiB