Package: CAEN Version: 1.17.0 Command: /Library/Frameworks/R.framework/Resources/bin/R CMD INSTALL CAEN StartedAt: 2025-07-11 15:31:44 -0400 (Fri, 11 Jul 2025) EndedAt: 2025-07-11 15:32:10 -0400 (Fri, 11 Jul 2025) EllapsedTime: 26.7 seconds RetCode: 0 Status: OK