Package: CAEN Version: 1.17.0 Command: rm -rf CAEN.buildbin-libdir && mkdir CAEN.buildbin-libdir && /Users/biocbuild/BBS/utils/build-universal.sh CAEN_1.17.0.tar.gz /Library/Frameworks/R.framework/Resources/bin/R CAEN.buildbin-libdir StartedAt: 2025-07-12 00:47:39 -0400 (Sat, 12 Jul 2025) EndedAt: 2025-07-12 00:48:10 -0400 (Sat, 12 Jul 2025) EllapsedTime: 30.8 seconds RetCode: 0 Status: OK PackageFile: CAEN_1.17.0.tgz PackageFileSize: 1.52 MiB