Package: CAEN Version: 1.17.0 Command: /Library/Frameworks/R.framework/Resources/bin/R CMD check --install=check:CAEN.install-out.txt --library=/Library/Frameworks/R.framework/Resources/library --no-vignettes --timings CAEN_1.17.0.tar.gz StartedAt: 2025-07-14 18:22:13 -0400 (Mon, 14 Jul 2025) EndedAt: 2025-07-14 18:23:12 -0400 (Mon, 14 Jul 2025) EllapsedTime: 58.7 seconds RetCode: 0 Status: OK CheckDir: CAEN.Rcheck Warnings: 0