Package: BufferedMatrix Version: 1.73.0 Command: /Library/Frameworks/R.framework/Resources/bin/R CMD check --install=check:BufferedMatrix.install-out.txt --library=/Library/Frameworks/R.framework/Resources/library --no-vignettes --timings BufferedMatrix_1.73.0.tar.gz StartedAt: 2025-10-05 18:36:11 -0400 (Sun, 05 Oct 2025) EndedAt: 2025-10-05 18:36:28 -0400 (Sun, 05 Oct 2025) EllapsedTime: 16.2 seconds RetCode: 0 Status: WARNINGS CheckDir: BufferedMatrix.Rcheck Warnings: 1