Package: BubbleTree Version: 2.39.0 Command: F:\biocbuild\bbs-3.22-bioc\R\bin\R.exe CMD INSTALL BubbleTree StartedAt: 2025-07-16 16:18:19 -0400 (Wed, 16 Jul 2025) EndedAt: 2025-07-16 16:19:38 -0400 (Wed, 16 Jul 2025) EllapsedTime: 79.4 seconds RetCode: 0 Status: OK