Package: BubbleTree Version: 2.39.0 Command: rm -rf BubbleTree.buildbin-libdir && mkdir BubbleTree.buildbin-libdir && F:\biocbuild\bbs-3.22-bioc\R\bin\R.exe CMD INSTALL --build --library=BubbleTree.buildbin-libdir BubbleTree_2.39.0.tar.gz StartedAt: 2025-07-17 08:34:33 -0400 (Thu, 17 Jul 2025) EndedAt: 2025-07-17 08:35:49 -0400 (Thu, 17 Jul 2025) EllapsedTime: 76.5 seconds RetCode: 0 Status: OK PackageFile: BubbleTree_2.39.0.zip PackageFileSize: 25.99 MiB