Package: BubbleTree Version: 2.39.0 Command: /Library/Frameworks/R.framework/Resources/bin/R CMD check --install=check:BubbleTree.install-out.txt --library=/Library/Frameworks/R.framework/Resources/library --no-vignettes --timings BubbleTree_2.39.0.tar.gz StartedAt: 2025-07-14 18:21:10 -0400 (Mon, 14 Jul 2025) EndedAt: 2025-07-14 18:23:32 -0400 (Mon, 14 Jul 2025) EllapsedTime: 141.7 seconds RetCode: 0 Status: OK CheckDir: BubbleTree.Rcheck Warnings: 0