Package: BubbleTree Version: 2.39.0 Maintainer: Todd Creasy , Wei Zhu MaintainerEmail: weizhu365 at gmail.com git_url: https://git.bioconductor.org/packages/BubbleTree git_branch: devel git_last_commit: c8fc528 git_last_commit_date: 2025-04-15 10:38:04 -0400 (Tue, 15 Apr 2025)