Package: BrowserViz Version: 2.31.0 Command: /home/biocbuild/R/R/bin/R CMD check --install=check:BrowserViz.install-out.txt --library=/home/biocbuild/R/R/site-library --no-vignettes --timings BrowserViz_2.31.0.tar.gz StartedAt: 2025-07-01 05:29:14 -0000 (Tue, 01 Jul 2025) EndedAt: 2025-07-01 05:29:41 -0000 (Tue, 01 Jul 2025) EllapsedTime: 27.0 seconds RetCode: 0 Status: OK CheckDir: BrowserViz.Rcheck Warnings: 0