Package: BrowserViz Version: 2.31.0 Command: /home/biocbuild/R/R/bin/R CMD build --keep-empty-dirs --no-resave-data BrowserViz StartedAt: 2025-06-30 22:18:47 -0000 (Mon, 30 Jun 2025) EndedAt: 2025-06-30 22:18:55 -0000 (Mon, 30 Jun 2025) EllapsedTime: 8.0 seconds RetCode: 0 Status: OK PackageFile: BrowserViz_2.31.0.tar.gz PackageFileSize: 267.6 KiB