Package: BrowserViz Version: 2.31.0 Command: chmod a+r BrowserViz -R && F:\biocbuild\bbs-3.22-bioc\R\bin\R.exe CMD build --keep-empty-dirs --no-resave-data BrowserViz StartedAt: 2025-07-24 17:55:49 -0400 (Thu, 24 Jul 2025) EndedAt: 2025-07-24 17:56:20 -0400 (Thu, 24 Jul 2025) EllapsedTime: 31.2 seconds RetCode: 0 Status: OK PackageFile: BrowserViz_2.31.0.tar.gz PackageFileSize: 241.1 KiB