Package: BrowserViz Version: 2.31.0 Command: /home/biocbuild/bbs-3.22-bioc/R/bin/R CMD INSTALL BrowserViz StartedAt: 2025-07-01 15:13:12 -0400 (Tue, 01 Jul 2025) EndedAt: 2025-07-01 15:13:17 -0400 (Tue, 01 Jul 2025) EllapsedTime: 5.1 seconds RetCode: 0 Status: OK