Package: BrowserViz Version: 2.31.0 Command: /home/biocbuild/bbs-3.22-bioc/R/bin/R CMD check --install=check:BrowserViz.install-out.txt --library=/home/biocbuild/bbs-3.22-bioc/R/site-library --timings BrowserViz_2.31.0.tar.gz StartedAt: 2025-07-01 20:31:45 -0400 (Tue, 01 Jul 2025) EndedAt: 2025-07-01 20:32:10 -0400 (Tue, 01 Jul 2025) EllapsedTime: 25.0 seconds RetCode: 0 Status: OK CheckDir: BrowserViz.Rcheck Warnings: 0