Package: BrowserViz Version: 2.31.0 Command: /home/biocbuild/bbs-3.22-bioc/R/bin/R CMD build --keep-empty-dirs --no-resave-data --md5 BrowserViz StartedAt: 2025-07-01 16:24:42 -0400 (Tue, 01 Jul 2025) EndedAt: 2025-07-01 16:24:48 -0400 (Tue, 01 Jul 2025) EllapsedTime: 6.0 seconds RetCode: 0 Status: OK PackageFile: BrowserViz_2.31.0.tar.gz PackageFileSize: 242.5 KiB