Package: BrowserViz Version: 2.31.0 Command: rm -rf BrowserViz.buildbin-libdir && mkdir BrowserViz.buildbin-libdir && /Users/biocbuild/BBS/utils/build-universal.sh BrowserViz_2.31.0.tar.gz /Library/Frameworks/R.framework/Resources/bin/R BrowserViz.buildbin-libdir StartedAt: 2025-07-17 00:46:27 -0400 (Thu, 17 Jul 2025) EndedAt: 2025-07-17 00:46:33 -0400 (Thu, 17 Jul 2025) EllapsedTime: 6.8 seconds RetCode: 0 Status: OK PackageFile: BrowserViz_2.31.0.tgz PackageFileSize: 416 KiB