Package: BrowserViz Version: 2.31.0 Command: /Library/Frameworks/R.framework/Resources/bin/R CMD check --install=check:BrowserViz.install-out.txt --library=/Library/Frameworks/R.framework/Resources/library --no-vignettes --timings BrowserViz_2.31.0.tar.gz StartedAt: 2025-07-20 18:23:56 -0400 (Sun, 20 Jul 2025) EndedAt: 2025-07-20 18:24:10 -0400 (Sun, 20 Jul 2025) EllapsedTime: 14.2 seconds RetCode: 0 Status: OK CheckDir: BrowserViz.Rcheck Warnings: 0