Package: BrowserViz Version: 2.31.0 Command: rm -rf BrowserViz.buildbin-libdir && mkdir BrowserViz.buildbin-libdir && /Users/biocbuild/BBS/utils/build-universal.sh BrowserViz_2.31.0.tar.gz /Library/Frameworks/R.framework/Resources/bin/R BrowserViz.buildbin-libdir StartedAt: 2025-07-20 22:19:23 -0400 (Sun, 20 Jul 2025) EndedAt: 2025-07-20 22:19:25 -0400 (Sun, 20 Jul 2025) EllapsedTime: 2.0 seconds RetCode: 0 Status: OK PackageFile: BrowserViz_2.31.0.tgz PackageFileSize: 416.7 KiB