Package: BloodGen3Module Version: 1.17.0 Command: /home/biocbuild/R/R/bin/R CMD INSTALL BloodGen3Module StartedAt: 2025-07-14 20:40:15 -0000 (Mon, 14 Jul 2025) EndedAt: 2025-07-14 20:40:57 -0000 (Mon, 14 Jul 2025) EllapsedTime: 42.5 seconds RetCode: 0 Status: OK