Package: Biostrings Version: 2.77.2 Command: F:\biocbuild\bbs-3.22-bioc\R\bin\R.exe CMD check --no-multiarch --install=check:Biostrings.install-out.txt --library=F:\biocbuild\bbs-3.22-bioc\R\library --no-vignettes --timings Biostrings_2.77.2.tar.gz StartedAt: 2025-07-23 23:57:18 -0400 (Wed, 23 Jul 2025) EndedAt: 2025-07-24 00:09:11 -0400 (Thu, 24 Jul 2025) EllapsedTime: 712.5 seconds RetCode: 0 Status: WARNINGS CheckDir: Biostrings.Rcheck Warnings: 2