Package: Biostrings Version: 2.77.2 Command: chmod a+r Biostrings -R && F:\biocbuild\bbs-3.22-bioc\R\bin\R.exe CMD build --keep-empty-dirs --no-resave-data Biostrings StartedAt: 2025-07-23 17:45:09 -0400 (Wed, 23 Jul 2025) EndedAt: 2025-07-23 17:48:09 -0400 (Wed, 23 Jul 2025) EllapsedTime: 179.6 seconds RetCode: 0 Status: OK PackageFile: Biostrings_2.77.2.tar.gz PackageFileSize: 11.85 MiB