Package: Biostrings Version: 2.77.2 Command: rm -rf Biostrings.buildbin-libdir && mkdir Biostrings.buildbin-libdir && F:\biocbuild\bbs-3.22-bioc\R\bin\R.exe CMD INSTALL --build --library=Biostrings.buildbin-libdir Biostrings_2.77.2.tar.gz StartedAt: 2025-07-24 08:42:09 -0400 (Thu, 24 Jul 2025) EndedAt: 2025-07-24 08:46:05 -0400 (Thu, 24 Jul 2025) EllapsedTime: 236.0 seconds RetCode: 0 Status: OK PackageFile: Biostrings_2.77.2.zip PackageFileSize: 13.1 MiB