Package: Biostrings Version: 2.77.2 Command: /home/biocbuild/bbs-3.22-bioc/R/bin/R CMD INSTALL Biostrings StartedAt: 2025-06-29 15:17:21 -0400 (Sun, 29 Jun 2025) EndedAt: 2025-06-29 15:17:49 -0400 (Sun, 29 Jun 2025) EllapsedTime: 27.8 seconds RetCode: 0 Status: OK