Package: Biostrings Version: 2.77.2 Command: /home/biocbuild/bbs-3.22-bioc/R/bin/R CMD check --install=check:Biostrings.install-out.txt --library=/home/biocbuild/bbs-3.22-bioc/R/site-library --timings Biostrings_2.77.2.tar.gz StartedAt: 2025-06-29 20:24:22 -0400 (Sun, 29 Jun 2025) EndedAt: 2025-06-29 20:33:26 -0400 (Sun, 29 Jun 2025) EllapsedTime: 544.6 seconds RetCode: 0 Status: WARNINGS CheckDir: Biostrings.Rcheck Warnings: 1