Package: Biostrings Version: 2.77.2 Command: /home/biocbuild/bbs-3.22-bioc/R/bin/R CMD build --keep-empty-dirs --no-resave-data --md5 Biostrings StartedAt: 2025-06-29 16:24:21 -0400 (Sun, 29 Jun 2025) EndedAt: 2025-06-29 16:25:14 -0400 (Sun, 29 Jun 2025) EllapsedTime: 52.0 seconds RetCode: 0 Status: OK PackageFile: Biostrings_2.77.2.tar.gz PackageFileSize: 12.23 MiB