Package: Biostrings Version: 2.77.2 Command: /Library/Frameworks/R.framework/Resources/bin/R CMD INSTALL Biostrings StartedAt: 2025-07-15 15:07:27 -0400 (Tue, 15 Jul 2025) EndedAt: 2025-07-15 15:07:38 -0400 (Tue, 15 Jul 2025) EllapsedTime: 10.6 seconds RetCode: 0 Status: OK