Package: Biostrings Version: 2.77.2 Command: /Library/Frameworks/R.framework/Resources/bin/R CMD check --install=check:Biostrings.install-out.txt --library=/Library/Frameworks/R.framework/Resources/library --no-vignettes --timings Biostrings_2.77.2.tar.gz StartedAt: 2025-07-14 18:17:16 -0400 (Mon, 14 Jul 2025) EndedAt: 2025-07-14 18:21:10 -0400 (Mon, 14 Jul 2025) EllapsedTime: 233.8 seconds RetCode: 0 Status: WARNINGS CheckDir: Biostrings.Rcheck Warnings: 1