Package: Biostrings Version: 2.77.2 Command: rm -rf Biostrings.buildbin-libdir && mkdir Biostrings.buildbin-libdir && /Users/biocbuild/BBS/utils/build-universal.sh Biostrings_2.77.2.tar.gz /Library/Frameworks/R.framework/Resources/bin/R Biostrings.buildbin-libdir StartedAt: 2025-07-14 22:12:12 -0400 (Mon, 14 Jul 2025) EndedAt: 2025-07-14 22:12:25 -0400 (Mon, 14 Jul 2025) EllapsedTime: 13.3 seconds RetCode: 0 Status: OK PackageFile: Biostrings_2.77.2.tgz PackageFileSize: 13.5 MiB