Package: BiocWorkflowTools Version: 1.35.0 Command: F:\biocbuild\bbs-3.22-bioc\R\bin\R.exe CMD INSTALL BiocWorkflowTools StartedAt: 2025-06-29 15:47:29 -0400 (Sun, 29 Jun 2025) EndedAt: 2025-06-29 15:47:45 -0400 (Sun, 29 Jun 2025) EllapsedTime: 16.3 seconds RetCode: 0 Status: OK