Package: BiocWorkflowTools Version: 1.35.0 Command: chmod a+r BiocWorkflowTools -R && F:\biocbuild\bbs-3.22-bioc\R\bin\R.exe CMD build --keep-empty-dirs --no-resave-data BiocWorkflowTools StartedAt: 2025-06-29 17:39:48 -0400 (Sun, 29 Jun 2025) EndedAt: 2025-06-29 17:40:10 -0400 (Sun, 29 Jun 2025) EllapsedTime: 22.8 seconds RetCode: 0 Status: OK PackageFile: BiocWorkflowTools_1.35.0.tar.gz PackageFileSize: 974.9 KiB