Package: BiocWorkflowTools Version: 1.35.0 Command: /Library/Frameworks/R.framework/Resources/bin/R CMD check --install=check:BiocWorkflowTools.install-out.txt --library=/Library/Frameworks/R.framework/Resources/library --no-vignettes --timings BiocWorkflowTools_1.35.0.tar.gz StartedAt: 2025-06-29 18:17:16 -0400 (Sun, 29 Jun 2025) EndedAt: 2025-06-29 18:17:30 -0400 (Sun, 29 Jun 2025) EllapsedTime: 14.1 seconds RetCode: 0 Status: OK CheckDir: BiocWorkflowTools.Rcheck Warnings: 0