Package: BiocVersion Version: 3.22.0 Command: /home/biocbuild/R/R/bin/R CMD INSTALL BiocVersion StartedAt: 2025-07-14 20:12:56 -0000 (Mon, 14 Jul 2025) EndedAt: 2025-07-14 20:13:27 -0000 (Mon, 14 Jul 2025) EllapsedTime: 31.4 seconds RetCode: 0 Status: OK