Package: BiocVersion Version: 3.22.0 Command: /home/biocbuild/R/R/bin/R CMD check --install=check:BiocVersion.install-out.txt --library=/home/biocbuild/R/R/site-library --no-vignettes --timings BiocVersion_3.22.0.tar.gz StartedAt: 2025-07-08 04:32:12 -0000 (Tue, 08 Jul 2025) EndedAt: 2025-07-08 04:33:21 -0000 (Tue, 08 Jul 2025) EllapsedTime: 69.1 seconds RetCode: 0 Status: OK CheckDir: BiocVersion.Rcheck Warnings: 0