Package: BiocVersion Version: 3.22.0 Command: /home/biocbuild/R/R/bin/R CMD build --keep-empty-dirs --no-resave-data BiocVersion StartedAt: 2025-07-07 22:00:38 -0000 (Mon, 07 Jul 2025) EndedAt: 2025-07-07 22:00:39 -0000 (Mon, 07 Jul 2025) EllapsedTime: 1.0 seconds RetCode: 0 Status: OK PackageFile: BiocVersion_3.22.0.tar.gz PackageFileSize: 995 bytes