Package: BiocVersion Version: 3.22.0 Command: rm -rf BiocVersion.buildbin-libdir && mkdir BiocVersion.buildbin-libdir && /Users/biocbuild/BBS/utils/build-universal.sh BiocVersion_3.22.0.tar.gz /Library/Frameworks/R.framework/Resources/bin/R BiocVersion.buildbin-libdir StartedAt: 2025-06-28 00:33:00 -0400 (Sat, 28 Jun 2025) EndedAt: 2025-06-28 00:33:05 -0400 (Sat, 28 Jun 2025) EllapsedTime: 4.6 seconds RetCode: 0 Status: OK PackageFile: BiocVersion_3.22.0.tgz PackageFileSize: 5.664 KiB