Package: BiocStyle Version: 2.37.0 Command: F:\biocbuild\bbs-3.22-bioc\R\bin\R.exe CMD INSTALL BiocStyle StartedAt: 2025-07-16 16:17:50 -0400 (Wed, 16 Jul 2025) EndedAt: 2025-07-16 16:18:11 -0400 (Wed, 16 Jul 2025) EllapsedTime: 20.5 seconds RetCode: 0 Status: OK