Package: BiocStyle Version: 2.37.0 Command: chmod a+r BiocStyle -R && F:\biocbuild\bbs-3.22-bioc\R\bin\R.exe CMD build --keep-empty-dirs --no-resave-data BiocStyle StartedAt: 2025-07-16 17:37:52 -0400 (Wed, 16 Jul 2025) EndedAt: 2025-07-16 17:38:22 -0400 (Wed, 16 Jul 2025) EllapsedTime: 29.9 seconds RetCode: 0 Status: OK PackageFile: BiocStyle_2.37.0.tar.gz PackageFileSize: 708 KiB