Package: BiocStyle Version: 2.37.0 Command: rm -rf BiocStyle.buildbin-libdir && mkdir BiocStyle.buildbin-libdir && F:\biocbuild\bbs-3.22-bioc\R\bin\R.exe CMD INSTALL --build --library=BiocStyle.buildbin-libdir BiocStyle_2.37.0.tar.gz StartedAt: 2025-07-17 08:31:33 -0400 (Thu, 17 Jul 2025) EndedAt: 2025-07-17 08:32:17 -0400 (Thu, 17 Jul 2025) EllapsedTime: 44.5 seconds RetCode: 0 Status: OK PackageFile: BiocStyle_2.37.0.zip PackageFileSize: 791.4 KiB