Package: BiocSingular Version: 1.25.0 Command: /home/biocbuild/bbs-3.22-bioc/R/bin/R CMD check --install=check:BiocSingular.install-out.txt --library=/home/biocbuild/bbs-3.22-bioc/R/site-library --timings BiocSingular_1.25.0.tar.gz StartedAt: 2025-07-13 20:19:10 -0400 (Sun, 13 Jul 2025) EndedAt: 2025-07-13 20:22:22 -0400 (Sun, 13 Jul 2025) EllapsedTime: 192.3 seconds RetCode: 0 Status: WARNINGS CheckDir: BiocSingular.Rcheck Warnings: 1