Package: BiocSingular Version: 1.25.0 Command: /Library/Frameworks/R.framework/Resources/bin/R CMD INSTALL BiocSingular StartedAt: 2025-07-14 15:27:42 -0400 (Mon, 14 Jul 2025) EndedAt: 2025-07-14 15:27:52 -0400 (Mon, 14 Jul 2025) EllapsedTime: 10.4 seconds RetCode: 0 Status: OK