Package: BiocSingular Version: 1.25.0 Command: rm -rf BiocSingular.buildbin-libdir && mkdir BiocSingular.buildbin-libdir && /Users/biocbuild/BBS/utils/build-universal.sh BiocSingular_1.25.0.tar.gz /Library/Frameworks/R.framework/Resources/bin/R BiocSingular.buildbin-libdir StartedAt: 2025-07-14 22:12:02 -0400 (Mon, 14 Jul 2025) EndedAt: 2025-07-14 22:12:13 -0400 (Mon, 14 Jul 2025) EllapsedTime: 11.2 seconds RetCode: 0 Status: OK PackageFile: BiocSingular_1.25.0.tgz PackageFileSize: 926 KiB