Package: BiocSet Version: 1.23.0 Command: F:\biocbuild\bbs-3.22-bioc\R\bin\R.exe CMD check --no-multiarch --install=check:BiocSet.install-out.txt --library=F:\biocbuild\bbs-3.22-bioc\R\library --no-vignettes --timings BiocSet_1.23.0.tar.gz StartedAt: 2025-07-04 23:44:24 -0400 (Fri, 04 Jul 2025) EndedAt: 2025-07-04 23:55:48 -0400 (Fri, 04 Jul 2025) EllapsedTime: 684.3 seconds RetCode: 0 Status: OK CheckDir: BiocSet.Rcheck Warnings: 0