Package: BiocSet Version: 1.23.0 Command: chmod a+r BiocSet -R && F:\biocbuild\bbs-3.22-bioc\R\bin\R.exe CMD build --keep-empty-dirs --no-resave-data BiocSet StartedAt: 2025-07-03 17:39:33 -0400 (Thu, 03 Jul 2025) EndedAt: 2025-07-03 17:42:30 -0400 (Thu, 03 Jul 2025) EllapsedTime: 177.5 seconds RetCode: 0 Status: OK PackageFile: BiocSet_1.23.0.tar.gz PackageFileSize: 359.4 KiB