Package: BiocSet Version: 1.23.0 Command: /Library/Frameworks/R.framework/Resources/bin/R CMD INSTALL BiocSet StartedAt: 2025-07-14 15:28:25 -0400 (Mon, 14 Jul 2025) EndedAt: 2025-07-14 15:28:47 -0400 (Mon, 14 Jul 2025) EllapsedTime: 22.0 seconds RetCode: 0 Status: OK