Package: BiocSet Version: 1.23.0 Command: /Library/Frameworks/R.framework/Resources/bin/R CMD check --install=check:BiocSet.install-out.txt --library=/Library/Frameworks/R.framework/Resources/library --no-vignettes --timings BiocSet_1.23.0.tar.gz StartedAt: 2025-07-14 19:25:54 -0400 (Mon, 14 Jul 2025) EndedAt: 2025-07-14 19:34:53 -0400 (Mon, 14 Jul 2025) EllapsedTime: 538.4 seconds RetCode: 0 Status: OK CheckDir: BiocSet.Rcheck Warnings: 0