Package: BiocSet Version: 1.23.0 Command: rm -rf BiocSet.buildbin-libdir && mkdir BiocSet.buildbin-libdir && /Users/biocbuild/BBS/utils/build-universal.sh BiocSet_1.23.0.tar.gz /Library/Frameworks/R.framework/Resources/bin/R BiocSet.buildbin-libdir StartedAt: 2025-07-15 00:47:24 -0400 (Tue, 15 Jul 2025) EndedAt: 2025-07-15 00:47:49 -0400 (Tue, 15 Jul 2025) EllapsedTime: 25.6 seconds RetCode: 0 Status: OK PackageFile: BiocSet_1.23.0.tgz PackageFileSize: 781.1 KiB