Package: BiocPkgTools Version: 1.27.6 Command: /Library/Frameworks/R.framework/Resources/bin/R CMD INSTALL BiocPkgTools StartedAt: 2025-07-09 15:43:20 -0400 (Wed, 09 Jul 2025) EndedAt: 2025-07-09 15:43:36 -0400 (Wed, 09 Jul 2025) EllapsedTime: 15.6 seconds RetCode: 0 Status: OK