Package: BiocPkgTools Version: 1.27.6 Command: /Library/Frameworks/R.framework/Resources/bin/R CMD check --install=check:BiocPkgTools.install-out.txt --library=/Library/Frameworks/R.framework/Resources/library --no-vignettes --timings BiocPkgTools_1.27.6.tar.gz StartedAt: 2025-07-09 19:43:13 -0400 (Wed, 09 Jul 2025) EndedAt: 2025-07-09 19:53:57 -0400 (Wed, 09 Jul 2025) EllapsedTime: 643.8 seconds RetCode: 0 Status: OK CheckDir: BiocPkgTools.Rcheck Warnings: 0