Package: BiocPkgTools Version: 1.27.6 Command: /Library/Frameworks/R.framework/Resources/bin/R CMD build --keep-empty-dirs --no-resave-data BiocPkgTools StartedAt: 2025-07-09 16:33:01 -0400 (Wed, 09 Jul 2025) EndedAt: 2025-07-09 16:36:55 -0400 (Wed, 09 Jul 2025) EllapsedTime: 234.6 seconds RetCode: 0 Status: OK PackageFile: BiocPkgTools_1.27.6.tar.gz PackageFileSize: 1.454 MiB