Package: BiocNeighbors Version: 2.3.1 Command: /Library/Frameworks/R.framework/Resources/bin/R CMD INSTALL BiocNeighbors StartedAt: 2025-07-01 15:01:51 -0400 (Tue, 01 Jul 2025) EndedAt: 2025-07-01 15:02:04 -0400 (Tue, 01 Jul 2025) EllapsedTime: 12.9 seconds RetCode: 0 Status: OK